BEGIN:VCALENDAR
VERSION:2.0
PRODID:-//Athena VII - ECPv6.15.20//NONSGML v1.0//EN
CALSCALE:GREGORIAN
METHOD:PUBLISH
X-ORIGINAL-URL:https://athena.thevillagesite.net
X-WR-CALDESC:Events for Athena VII
REFRESH-INTERVAL;VALUE=DURATION:PT1H
X-Robots-Tag:noindex
X-PUBLISHED-TTL:PT1H
BEGIN:VTIMEZONE
TZID:America/Denver
BEGIN:DAYLIGHT
TZOFFSETFROM:-0700
TZOFFSETTO:-0600
TZNAME:MDT
DTSTART:20250309T090000
END:DAYLIGHT
BEGIN:STANDARD
TZOFFSETFROM:-0600
TZOFFSETTO:-0700
TZNAME:MST
DTSTART:20251102T080000
END:STANDARD
BEGIN:DAYLIGHT
TZOFFSETFROM:-0700
TZOFFSETTO:-0600
TZNAME:MDT
DTSTART:20260308T090000
END:DAYLIGHT
BEGIN:STANDARD
TZOFFSETFROM:-0600
TZOFFSETTO:-0700
TZNAME:MST
DTSTART:20261101T080000
END:STANDARD
BEGIN:DAYLIGHT
TZOFFSETFROM:-0700
TZOFFSETTO:-0600
TZNAME:MDT
DTSTART:20270314T090000
END:DAYLIGHT
BEGIN:STANDARD
TZOFFSETFROM:-0600
TZOFFSETTO:-0700
TZNAME:MST
DTSTART:20271107T080000
END:STANDARD
END:VTIMEZONE
BEGIN:VEVENT
DTSTART;TZID=America/Denver:20260501T190000
DTEND;TZID=America/Denver:20260501T210000
DTSTAMP:20260420T205710
CREATED:20260417T225029Z
LAST-MODIFIED:20260417T225029Z
UID:21725-1777662000-1777669200@athena.thevillagesite.net
SUMMARY:Alia Reedy
DESCRIPTION:
URL:https://athena.thevillagesite.net/event/alia-reedy/
ATTACH;FMTTYPE=image/jpeg:https://athena.thevillagesite.net/wp-content/uploads/2026/04/event-flyer.jpg
END:VEVENT
END:VCALENDAR