BEGIN:VCALENDAR
VERSION:2.0
PRODID:-//Athena VII - ECPv6.15.20//NONSGML v1.0//EN
CALSCALE:GREGORIAN
METHOD:PUBLISH
X-WR-CALNAME:Athena VII
X-ORIGINAL-URL:https://athena.thevillagesite.net
X-WR-CALDESC:Events for Athena VII
REFRESH-INTERVAL;VALUE=DURATION:PT1H
X-Robots-Tag:noindex
X-PUBLISHED-TTL:PT1H
BEGIN:VTIMEZONE
TZID:America/Denver
BEGIN:DAYLIGHT
TZOFFSETFROM:-0700
TZOFFSETTO:-0600
TZNAME:MDT
DTSTART:20250309T090000
END:DAYLIGHT
BEGIN:STANDARD
TZOFFSETFROM:-0600
TZOFFSETTO:-0700
TZNAME:MST
DTSTART:20251102T080000
END:STANDARD
BEGIN:DAYLIGHT
TZOFFSETFROM:-0700
TZOFFSETTO:-0600
TZNAME:MDT
DTSTART:20260308T090000
END:DAYLIGHT
BEGIN:STANDARD
TZOFFSETFROM:-0600
TZOFFSETTO:-0700
TZNAME:MST
DTSTART:20261101T080000
END:STANDARD
BEGIN:DAYLIGHT
TZOFFSETFROM:-0700
TZOFFSETTO:-0600
TZNAME:MDT
DTSTART:20270314T090000
END:DAYLIGHT
BEGIN:STANDARD
TZOFFSETFROM:-0600
TZOFFSETTO:-0700
TZNAME:MST
DTSTART:20271107T080000
END:STANDARD
END:VTIMEZONE
BEGIN:VEVENT
DTSTART;TZID=America/Denver:20260530T210000
DTEND;TZID=America/Denver:20260531T013000
DTSTAMP:20260420T223852
CREATED:20260407T191218Z
LAST-MODIFIED:20260407T191218Z
UID:21703-1780174800-1780191000@athena.thevillagesite.net
SUMMARY:Salsation Dance Nite
DESCRIPTION:Free Dance Lessons at 9pm    Dance starts around 10:00pm ’till 1:30 am \nTickets at the door. \nFull Bar Opens by 9:30pm \n**Remember *No Outside Food/Drink/Containers Allowed. \nMore event info at Salsation Utah
URL:https://athena.thevillagesite.net/event/salsation-dance-nite-22/
ATTACH;FMTTYPE=image/jpeg:https://athena.thevillagesite.net/wp-content/uploads/2023/03/Salsation.jpg
END:VEVENT
END:VCALENDAR