BEGIN:VCALENDAR
VERSION:2.0
PRODID:-//Athena VII - ECPv6.15.20//NONSGML v1.0//EN
CALSCALE:GREGORIAN
METHOD:PUBLISH
X-ORIGINAL-URL:https://athena.thevillagesite.net
X-WR-CALDESC:Events for Athena VII
REFRESH-INTERVAL;VALUE=DURATION:PT1H
X-Robots-Tag:noindex
X-PUBLISHED-TTL:PT1H
BEGIN:VTIMEZONE
TZID:America/Denver
BEGIN:DAYLIGHT
TZOFFSETFROM:-0700
TZOFFSETTO:-0600
TZNAME:MDT
DTSTART:20230312T090000
END:DAYLIGHT
BEGIN:STANDARD
TZOFFSETFROM:-0600
TZOFFSETTO:-0700
TZNAME:MST
DTSTART:20231105T080000
END:STANDARD
BEGIN:DAYLIGHT
TZOFFSETFROM:-0700
TZOFFSETTO:-0600
TZNAME:MDT
DTSTART:20240310T090000
END:DAYLIGHT
BEGIN:STANDARD
TZOFFSETFROM:-0600
TZOFFSETTO:-0700
TZNAME:MST
DTSTART:20241103T080000
END:STANDARD
BEGIN:DAYLIGHT
TZOFFSETFROM:-0700
TZOFFSETTO:-0600
TZNAME:MDT
DTSTART:20250309T090000
END:DAYLIGHT
BEGIN:STANDARD
TZOFFSETFROM:-0600
TZOFFSETTO:-0700
TZNAME:MST
DTSTART:20251102T080000
END:STANDARD
BEGIN:DAYLIGHT
TZOFFSETFROM:-0700
TZOFFSETTO:-0600
TZNAME:MDT
DTSTART:20260308T090000
END:DAYLIGHT
BEGIN:STANDARD
TZOFFSETFROM:-0600
TZOFFSETTO:-0700
TZNAME:MST
DTSTART:20261101T080000
END:STANDARD
END:VTIMEZONE
BEGIN:VEVENT
DTSTART;TZID=America/Denver:20251214T110000
DTEND;TZID=America/Denver:20251214T160000
DTSTAMP:20260421T003910
CREATED:20251006T181833Z
LAST-MODIFIED:20251006T202419Z
UID:18533-1765710000-1765728000@athena.thevillagesite.net
SUMMARY:Utah Pagan Market
DESCRIPTION:Time: 11am – 4pm Open Market \nHosted by: Athena Beans Coffee & Bistro– 111 W 9000 S\, Sandy UT 84070
URL:https://athena.thevillagesite.net/event/utah-pagan-market-9/
CATEGORIES:Food & Beverage,Shopping
ATTACH;FMTTYPE=image/jpeg:https://athena.thevillagesite.net/wp-content/uploads/2025/10/2025-1214.jpg
END:VEVENT
BEGIN:VEVENT
DTSTART;TZID=America/Denver:20250928T110000
DTEND;TZID=America/Denver:20250928T160000
DTSTAMP:20260421T003910
CREATED:20250925T175715Z
LAST-MODIFIED:20250925T175715Z
UID:18481-1759057200-1759075200@athena.thevillagesite.net
SUMMARY:Utah Pagan Market
DESCRIPTION:Drop by for the Pagan Market\nFood & Drink\nMarket runs from 11 am to 4 pm. See you there!
URL:https://athena.thevillagesite.net/event/utah-pagan-market-8/
LOCATION:Athena Beans\, 111 West 9000 S.\, Sandy\, UT\, 84070\, United States
CATEGORIES:Food & Beverage,Fun & Entertainment
ATTACH;FMTTYPE=image/jpeg:https://athena.thevillagesite.net/wp-content/uploads/2025/09/2025-09-flyer.jpg
ORGANIZER;CN="Athena Coffee Bistro":MAILTO:events@athena.thevillagesite.net
END:VEVENT
BEGIN:VEVENT
DTSTART;TZID=America/Denver:20241124T110000
DTEND;TZID=America/Denver:20241124T160000
DTSTAMP:20260421T003910
CREATED:20241020T044137Z
LAST-MODIFIED:20241115T020540Z
UID:17433-1732446000-1732464000@athena.thevillagesite.net
SUMMARY:Pagan Market
DESCRIPTION:Drop by for the Pagan Market\nFood & Drink\nMarket runs from 11 am to 4 pm. See you there!
URL:https://athena.thevillagesite.net/event/pagan-market-2/
CATEGORIES:Food & Beverage,Shopping
ATTACH;FMTTYPE=image/png:https://athena.thevillagesite.net/wp-content/uploads/2024/05/2022-Every-Last-Sunday-e1718920955464.png
END:VEVENT
BEGIN:VEVENT
DTSTART;TZID=America/Denver:20241105T160000
DTEND;TZID=America/Denver:20241105T180000
DTSTAMP:20260421T003910
CREATED:20240911T035221Z
LAST-MODIFIED:20240930T215843Z
UID:17323-1730822400-1730829600@athena.thevillagesite.net
SUMMARY:Paint & Sip
DESCRIPTION:Paint and Sip with Artist Sarah McDonald at Athena’s!\n\n\n\n\n\n\n\n\n\n\n\n\n\n\n\n\n\n\n\nTuesday\, October 1st\, 2024 | 4-6 PM\n$35 per personJoin us for a creative evening at Athena’s with local artist Sarah McDonald! Enjoy a complimentary drink as you dive into a meaningful painting session. Bring a reference photo that holds special memories—a beloved landscape from a hike\, a moment with your kids\, or your favorite wildflowers—and Sarah will guide you from sketch to finish\, helping your inner artist truly shine.Sign up for the class here!Remember the quote from Ratatouille? “Anyone can paint!” Sarah believes the same. As a self-taught artist\, she understands that not every painting is “the one\,” but practice makes perfect. You’ll be working on linen paper\, ideal for acrylic paints and easy to frame\, journal\, or share with a friend.Sarah is a self-taught artist creating expression\, landscapes\, and laughs\, Sarah McDonald is a middle school teacher by day and an artist by night. She began selling her art 4 years ago at the local farmer’s market\, and has grown to love connecting with the community via artistic means.This is a unique chance to express yourself and create something personal. Reserve your spot today!
URL:https://athena.thevillagesite.net/event/paint-sip-2024-11-05/
LOCATION:Athena Beans\, 111 West 9000 S.\, Sandy\, UT\, 84070\, United States
CATEGORIES:Food & Beverage,Fun & Entertainment
ORGANIZER;CN="Athena Coffee Bistro":MAILTO:events@athena.thevillagesite.net
END:VEVENT
BEGIN:VEVENT
DTSTART;TZID=America/Denver:20241001T160000
DTEND;TZID=America/Denver:20241001T180000
DTSTAMP:20260421T003910
CREATED:20240911T035221Z
LAST-MODIFIED:20240930T220239Z
UID:17309-1727798400-1727805600@athena.thevillagesite.net
SUMMARY:Paint & Sip
DESCRIPTION:Paint and Sip with Artist Sarah McDonald at Athena’s!\n\n\n\n\n\n\n\n\n\n\n\n\n\n\n\n\n\n\n\nTuesday\, October 1st\, 2024 | 4-6 PM\n$35 per personJoin us for a creative evening at Athena’s with local artist Sarah McDonald! Enjoy a complimentary drink as you dive into a meaningful painting session. Bring a reference photo that holds special memories—a beloved landscape from a hike\, a moment with your kids\, or your favorite wildflowers—and Sarah will guide you from sketch to finish\, helping your inner artist truly shine.Sign up for the class here!Remember the quote from Ratatouille? “Anyone can paint!” Sarah believes the same. As a self-taught artist\, she understands that not every painting is “the one\,” but practice makes perfect. You’ll be working on linen paper\, ideal for acrylic paints and easy to frame\, journal\, or share with a friend.Sarah is a self-taught artist creating expression\, landscapes\, and laughs\, Sarah McDonald is a middle school teacher by day and an artist by night. She began selling her art 4 years ago at the local farmer’s market\, and has grown to love connecting with the community via artistic means. \nThis is a unique chance to express yourself and create something personal. Reserve your spot today!
URL:https://athena.thevillagesite.net/event/paint-sip/
LOCATION:Athena Beans\, 111 West 9000 S.\, Sandy\, UT\, 84070\, United States
CATEGORIES:Food & Beverage,Fun & Entertainment
ORGANIZER;CN="Athena Coffee Bistro":MAILTO:events@athena.thevillagesite.net
END:VEVENT
BEGIN:VEVENT
DTSTART;TZID=America/Denver:20240825T110000
DTEND;TZID=America/Denver:20240825T160000
DTSTAMP:20260421T003910
CREATED:20240623T184256Z
LAST-MODIFIED:20240823T010252Z
UID:16538-1724583600-1724601600@athena.thevillagesite.net
SUMMARY:Utah Pagan Market
DESCRIPTION:August 25 @ 11:00 am – 4:00 pm\n\n\n\n\nDrop by for the Pagan Market last Sunday of the month. \nMarket runs from 11 am to 4 pm. \nPagan Sunday Service: Time: 11a-12p NOTE TIME CHANGE \nReaders: Brynhild White Raven Seer – Runes & Tarot & Entanglement Divination \nVendors: The Traveling Whisper\, Rhythmic Healing\, Phoenix Blooming Crafts & Crystals\, Maiden Mayhem Arts\, Shooting Star Wishes\, Sweet Catastrophe\, Green Wave Utah\, Seeds of Sonder\, Crystal Barista \nSee you there!
URL:https://athena.thevillagesite.net/event/utah-pagan-market-4/
LOCATION:Athena Beans\, 111 West 9000 S.\, Sandy\, UT\, 84070\, United States
CATEGORIES:Food & Beverage,Shopping
ORGANIZER;CN="Athena Coffee Bistro":MAILTO:events@athena.thevillagesite.net
END:VEVENT
BEGIN:VEVENT
DTSTART;TZID=America/Denver:20240728T080000
DTEND;TZID=America/Denver:20240728T170000
DTSTAMP:20260421T003910
CREATED:20240623T184052Z
LAST-MODIFIED:20240623T184052Z
UID:16536-1722153600-1722186000@athena.thevillagesite.net
SUMMARY:Utah Pagan Market
DESCRIPTION:July 28th @ 11:00 am – 4:00 pm\n\n\n\n\nDrop by for the Pagan Market last Sunday of the month. \nMarket runs from 11 am to 4 pm. \nSee you there!
URL:https://athena.thevillagesite.net/event/utah-pagan-market-3/
LOCATION:Athena Beans\, 111 West 9000 S.\, Sandy\, UT\, 84070\, United States
CATEGORIES:Food & Beverage,Shopping
ATTACH;FMTTYPE=image/png:https://athena.thevillagesite.net/wp-content/uploads/2024/05/2022-Every-Last-Sunday-e1718920955464.png
ORGANIZER;CN="Athena Coffee Bistro":MAILTO:events@athena.thevillagesite.net
END:VEVENT
BEGIN:VEVENT
DTSTART;TZID=America/Denver:20240630T110000
DTEND;TZID=America/Denver:20240630T160000
DTSTAMP:20260421T003910
CREATED:20240527T232433Z
LAST-MODIFIED:20240623T184607Z
UID:16303-1719745200-1719763200@athena.thevillagesite.net
SUMMARY:Utah Pagan Market
DESCRIPTION:June 30 @ 11:00 am – 4:00 pm\n\n\n\n\nDrop by for the Pagan Market last Sunday of the month. \nMarket runs from 11 am to 4 pm. \nSee you there!
URL:https://athena.thevillagesite.net/event/utah-pagan-market-2/
LOCATION:Athena Beans\, 111 West 9000 S.\, Sandy\, UT\, 84070\, United States
CATEGORIES:Food & Beverage,Shopping
ATTACH;FMTTYPE=image/png:https://athena.thevillagesite.net/wp-content/uploads/2024/05/2022-Every-Last-Sunday-e1718920955464.png
ORGANIZER;CN="Athena Coffee Bistro":MAILTO:events@athena.thevillagesite.net
END:VEVENT
BEGIN:VEVENT
DTSTART;TZID=America/Denver:20240526T110000
DTEND;TZID=America/Denver:20240526T160000
DTSTAMP:20260421T003910
CREATED:20240429T221518Z
LAST-MODIFIED:20240510T215950Z
UID:16063-1716721200-1716739200@athena.thevillagesite.net
SUMMARY:Pagan Market
DESCRIPTION:Drop by for the Pagan Market last Sunday of the month. \nMarket runs from 11 am to 4 pm. \nSee you there!
URL:https://athena.thevillagesite.net/event/pagan-market/
LOCATION:Athena Beans\, 111 West 9000 S.\, Sandy\, UT\, 84070\, United States
CATEGORIES:Food & Beverage,Shopping
ATTACH;FMTTYPE=image/png:https://athena.thevillagesite.net/wp-content/uploads/2024/04/2024-0526-flyer.png
ORGANIZER;CN="Athena Coffee Bistro":MAILTO:events@athena.thevillagesite.net
END:VEVENT
END:VCALENDAR