BEGIN:VCALENDAR
VERSION:2.0
PRODID:-//Athena VII - ECPv6.15.20//NONSGML v1.0//EN
CALSCALE:GREGORIAN
METHOD:PUBLISH
X-WR-CALNAME:Athena VII
X-ORIGINAL-URL:https://athena.thevillagesite.net
X-WR-CALDESC:Events for Athena VII
REFRESH-INTERVAL;VALUE=DURATION:PT1H
X-Robots-Tag:noindex
X-PUBLISHED-TTL:PT1H
BEGIN:VTIMEZONE
TZID:America/Denver
BEGIN:DAYLIGHT
TZOFFSETFROM:-0700
TZOFFSETTO:-0600
TZNAME:MDT
DTSTART:20230312T090000
END:DAYLIGHT
BEGIN:STANDARD
TZOFFSETFROM:-0600
TZOFFSETTO:-0700
TZNAME:MST
DTSTART:20231105T080000
END:STANDARD
BEGIN:DAYLIGHT
TZOFFSETFROM:-0700
TZOFFSETTO:-0600
TZNAME:MDT
DTSTART:20240310T090000
END:DAYLIGHT
BEGIN:STANDARD
TZOFFSETFROM:-0600
TZOFFSETTO:-0700
TZNAME:MST
DTSTART:20241103T080000
END:STANDARD
BEGIN:DAYLIGHT
TZOFFSETFROM:-0700
TZOFFSETTO:-0600
TZNAME:MDT
DTSTART:20250309T090000
END:DAYLIGHT
BEGIN:STANDARD
TZOFFSETFROM:-0600
TZOFFSETTO:-0700
TZNAME:MST
DTSTART:20251102T080000
END:STANDARD
BEGIN:DAYLIGHT
TZOFFSETFROM:-0700
TZOFFSETTO:-0600
TZNAME:MDT
DTSTART:20260308T090000
END:DAYLIGHT
BEGIN:STANDARD
TZOFFSETFROM:-0600
TZOFFSETTO:-0700
TZNAME:MST
DTSTART:20261101T080000
END:STANDARD
BEGIN:DAYLIGHT
TZOFFSETFROM:-0700
TZOFFSETTO:-0600
TZNAME:MDT
DTSTART:20270314T090000
END:DAYLIGHT
BEGIN:STANDARD
TZOFFSETFROM:-0600
TZOFFSETTO:-0700
TZNAME:MST
DTSTART:20271107T080000
END:STANDARD
END:VTIMEZONE
BEGIN:VEVENT
DTSTART;TZID=America/Denver:20260418T210000
DTEND;TZID=America/Denver:20260419T013000
DTSTAMP:20260420T223308
CREATED:20260407T190704Z
LAST-MODIFIED:20260407T190704Z
UID:21697-1776546000-1776562200@athena.thevillagesite.net
SUMMARY:Salsation Dance Nite
DESCRIPTION:Free Dance Lessons at 9pm    Dance starts around 10:00pm ’till 1:30 am \nTickets at the door. \nFull Bar Opens by 9:30pm \n**Remember *No Outside Food/Drink/Containers Allowed. \nMore event info at Salsation Utah
URL:https://athena.thevillagesite.net/event/salsation-dance-nite-19/
CATEGORIES:Fun & Entertainment
ATTACH;FMTTYPE=image/jpeg:https://athena.thevillagesite.net/wp-content/uploads/2024/04/Salsation-04.jpg
END:VEVENT
BEGIN:VEVENT
DTSTART;TZID=America/Denver:20260221T210000
DTEND;TZID=America/Denver:20260222T013000
DTSTAMP:20260420T223308
CREATED:20260111T195122Z
LAST-MODIFIED:20260111T195122Z
UID:21619-1771707600-1771723800@athena.thevillagesite.net
SUMMARY:Salsa Dance Nite
DESCRIPTION:Free Dance Lessons at 9pm    Dance starts around 10:00pm ’till 1:30 am \nTickets at the door. \nFull Bar Opens by 9:30pm \n**Remember *No Outside Food/Drink/Containers Allowed. \nMore event info at Salsation Utah
URL:https://athena.thevillagesite.net/event/salsa-dance-nite-2/
LOCATION:Athena VII\, 111 W 9000 S\, Sandy
CATEGORIES:Fun & Entertainment
ATTACH;FMTTYPE=image/jpeg:https://athena.thevillagesite.net/wp-content/uploads/2024/04/Salsation-04.jpg
END:VEVENT
BEGIN:VEVENT
DTSTART;TZID=America/Denver:20260207T210000
DTEND;TZID=America/Denver:20260208T013000
DTSTAMP:20260420T223308
CREATED:20260111T194917Z
LAST-MODIFIED:20260111T194917Z
UID:21617-1770498000-1770514200@athena.thevillagesite.net
SUMMARY:Salsa Dance Nite
DESCRIPTION:Free Dance Lessons at 9pm    Dance starts around 10:00pm ’till 1:30 am \nTickets at the door. \nFull Bar Opens by 9:30pm \n**Remember *No Outside Food/Drink/Containers Allowed. \nMore event info at Salsation Utah
URL:https://athena.thevillagesite.net/event/salsa-dance-nite/
LOCATION:Athena VII\, 111 W 9000 S\, Sandy
CATEGORIES:Fun & Entertainment
ATTACH;FMTTYPE=image/jpeg:https://athena.thevillagesite.net/wp-content/uploads/2024/04/Salsation-03.jpg
END:VEVENT
BEGIN:VEVENT
DTSTART;TZID=America/Denver:20260131T210000
DTEND;TZID=America/Denver:20260201T013000
DTSTAMP:20260420T223308
CREATED:20260111T194720Z
LAST-MODIFIED:20260111T194720Z
UID:21615-1769893200-1769909400@athena.thevillagesite.net
SUMMARY:Salsation Dance Nite
DESCRIPTION:Free Dance Lessons at 9pm    Dance starts around 10:00pm ’till 1:30 am \nTickets at the door. \nFull Bar Opens by 9:30pm \n**Remember *No Outside Food/Drink/Containers Allowed. \nMore event info at Salsation Utah
URL:https://athena.thevillagesite.net/event/salsation-dance-nite-18/
LOCATION:Athena VII\, 111 W 9000 S\, Sandy
CATEGORIES:Fun & Entertainment
ATTACH;FMTTYPE=image/jpeg:https://athena.thevillagesite.net/wp-content/uploads/2023/05/salsation-dancing-550x550-1.jpg
END:VEVENT
BEGIN:VEVENT
DTSTART;TZID=America/Denver:20260117T090000
DTEND;TZID=America/Denver:20260118T013000
DTSTAMP:20260420T223308
CREATED:20260111T194139Z
LAST-MODIFIED:20260111T194139Z
UID:21613-1768640400-1768699800@athena.thevillagesite.net
SUMMARY:Salsation Dance Nite
DESCRIPTION:Free Dance Lessons at 9pm    Dance starts around 10:00pm ’till 1:30 am \nTickets at the door. \nFull Bar Opens by 9:30pm \n**Remember *No Outside Food/Drink/Containers Allowed. \nMore event info at Salsation Utah
URL:https://athena.thevillagesite.net/event/salsation-dance-nite-17/
LOCATION:Athena VII\, 111 W 9000 S\, Sandy
CATEGORIES:Fun & Entertainment
ATTACH;FMTTYPE=image/jpeg:https://athena.thevillagesite.net/wp-content/uploads/2024/04/Salsation-05.jpg
END:VEVENT
BEGIN:VEVENT
DTSTART;TZID=America/Denver:20251231T210000
DTEND;TZID=America/Denver:20260101T013000
DTSTAMP:20260420T223308
CREATED:20251220T001837Z
LAST-MODIFIED:20251220T001837Z
UID:19587-1767214800-1767231000@athena.thevillagesite.net
SUMMARY:Salsation New Years Eve Dance
DESCRIPTION:Free Dance Lessons at 9pm    Dance starts around 10:00pm ’till 1:30 am \nTickets at the door. \nFull Bar Opens by 9:30pm \n**Remember *No Outside Food/Drink/Containers Allowed. \nMore event info at Salsation Utah
URL:https://athena.thevillagesite.net/event/salsation-new-years-eve-dance/
LOCATION:Athena VII\, 111 W 9000 S\, Sandy
CATEGORIES:Fun & Entertainment
ATTACH;FMTTYPE=image/jpeg:https://athena.thevillagesite.net/wp-content/uploads/2024/04/Salsation-04.jpg
END:VEVENT
BEGIN:VEVENT
DTSTART;TZID=America/Denver:20251220T210000
DTEND;TZID=America/Denver:20251221T013000
DTSTAMP:20260420T223308
CREATED:20251220T001032Z
LAST-MODIFIED:20251220T001032Z
UID:19585-1766264400-1766280600@athena.thevillagesite.net
SUMMARY:Salsation Dance Nite
DESCRIPTION:Free Dance Lessons at 9pm    Dance starts around 10:00pm ’till 1:30 am \nTickets at the door. \nFull Bar Opens by 9:30pm \n**Remember *No Outside Food/Drink/Containers Allowed. \nMore event info at Salsation Utah
URL:https://athena.thevillagesite.net/event/salsation-dance-nite-16/
CATEGORIES:Fun & Entertainment
ATTACH;FMTTYPE=image/jpeg:https://athena.thevillagesite.net/wp-content/uploads/2024/04/Salsation-03.jpg
END:VEVENT
BEGIN:VEVENT
DTSTART;TZID=America/Denver:20251129T210000
DTEND;TZID=America/Denver:20251130T013000
DTSTAMP:20260420T223308
CREATED:20251006T181525Z
LAST-MODIFIED:20251006T181525Z
UID:18531-1764450000-1764466200@athena.thevillagesite.net
SUMMARY:Salsation Dance Nite
DESCRIPTION:Doors Open at 8:45pm\nFree Dance Lessons at 9pm    Dance starts around 10:00pm ’till 1:30 am \nTickets at the door. \nFull Bar Opens by 9:30pm \n**Remember *No Outside Food/Drink/Containers Allowed. \nMore event info at Salation Utah
URL:https://athena.thevillagesite.net/event/salsation-dance-nite-15/
CATEGORIES:Fun & Entertainment
ATTACH;FMTTYPE=image/jpeg:https://athena.thevillagesite.net/wp-content/uploads/2024/04/Salsation-03.jpg
END:VEVENT
BEGIN:VEVENT
DTSTART;TZID=America/Denver:20251115T210000
DTEND;TZID=America/Denver:20251116T013000
DTSTAMP:20260420T223308
CREATED:20251006T181318Z
LAST-MODIFIED:20251006T181318Z
UID:18529-1763240400-1763256600@athena.thevillagesite.net
SUMMARY:Salsation Dance Nite
DESCRIPTION:Doors Open at 8:45pm\nFree Dance Lessons at 9pm    Dance starts around 10:00pm ’till 1:30 am \nTickets at the door. \nFull Bar Opens by 9:30pm \n**Remember *No Outside Food/Drink/Containers Allowed. \nMore event info at Salation Utah
URL:https://athena.thevillagesite.net/event/salsation-dance-nite-14/
CATEGORIES:Fun & Entertainment
ATTACH;FMTTYPE=image/jpeg:https://athena.thevillagesite.net/wp-content/uploads/2023/05/salsation-dancing-550x550-1.jpg
END:VEVENT
BEGIN:VEVENT
DTSTART;TZID=America/Denver:20251101T210000
DTEND;TZID=America/Denver:20251102T013000
DTSTAMP:20260420T223308
CREATED:20251006T181100Z
LAST-MODIFIED:20251006T181100Z
UID:18527-1762030800-1762047000@athena.thevillagesite.net
SUMMARY:Salsation Dance Nite
DESCRIPTION:Doors Open at 8:45pm\nFree Dance Lessons at 9pm    Dance starts around 10:00pm ’till 1:30 am \nTickets at the door. \nFull Bar Opens by 9:30pm \n**Remember *No Outside Food/Drink/Containers Allowed. \nMore event info at Salation Utah
URL:https://athena.thevillagesite.net/event/salsation-dance-nite-13/
CATEGORIES:Fun & Entertainment
ATTACH;FMTTYPE=image/jpeg:https://athena.thevillagesite.net/wp-content/uploads/2024/04/Salsation-05.jpg
END:VEVENT
BEGIN:VEVENT
DTSTART;TZID=America/Denver:20251018T210000
DTEND;TZID=America/Denver:20251019T013000
DTSTAMP:20260420T223308
CREATED:20250925T180729Z
LAST-MODIFIED:20251006T180829Z
UID:18487-1760821200-1760837400@athena.thevillagesite.net
SUMMARY:Salsation Dance Nite
DESCRIPTION:Doors Open at 8:45pm\nFree Dance Lessons at 9pm    Dance starts around 10:00pm ’till 1:30 am \nTickets at the door. \nFull Bar Opens by 9:30pm \n**Remember *No Outside Food/Drink/Containers Allowed. \nMore event info at Salation Utah
URL:https://athena.thevillagesite.net/event/salsation-dance-nite-12/
LOCATION:Athena Beans\, 111 West 9000 S.\, Sandy\, UT\, 84070\, United States
CATEGORIES:Fun & Entertainment
ATTACH;FMTTYPE=image/jpeg:https://athena.thevillagesite.net/wp-content/uploads/2024/04/Salsation-04.jpg
ORGANIZER;CN="Athena Coffee Bistro":MAILTO:events@athena.thevillagesite.net
END:VEVENT
BEGIN:VEVENT
DTSTART;TZID=America/Denver:20251004T210000
DTEND;TZID=America/Denver:20251005T013000
DTSTAMP:20260420T223308
CREATED:20250925T180428Z
LAST-MODIFIED:20250925T180428Z
UID:18485-1759611600-1759627800@athena.thevillagesite.net
SUMMARY:Salsation Dance Nite
DESCRIPTION:Doors Open at 8:45pm\nFree Dance Lessons at 9pm    Dance starts around 10:30pm ’till 1:30 am \nTickets at the Door: $8 before 10pm\, $12 after 10pm (*prices may vary for some events) \nFull Bar Opens by 9:30pm \n**Remember *No Outside Food/Drink/Containers Allowed. \nMore event info at Salation Utah
URL:https://athena.thevillagesite.net/event/salsation-dance-nite-11/
LOCATION:Athena Beans\, 111 West 9000 S.\, Sandy\, UT\, 84070\, United States
CATEGORIES:Fun & Entertainment
ATTACH;FMTTYPE=image/jpeg:https://athena.thevillagesite.net/wp-content/uploads/2024/04/Salsation-03.jpg
ORGANIZER;CN="Athena Coffee Bistro":MAILTO:events@athena.thevillagesite.net
END:VEVENT
BEGIN:VEVENT
DTSTART;TZID=America/Denver:20250928T110000
DTEND;TZID=America/Denver:20250928T160000
DTSTAMP:20260420T223308
CREATED:20250925T175715Z
LAST-MODIFIED:20250925T175715Z
UID:18481-1759057200-1759075200@athena.thevillagesite.net
SUMMARY:Utah Pagan Market
DESCRIPTION:Drop by for the Pagan Market\nFood & Drink\nMarket runs from 11 am to 4 pm. See you there!
URL:https://athena.thevillagesite.net/event/utah-pagan-market-8/
LOCATION:Athena Beans\, 111 West 9000 S.\, Sandy\, UT\, 84070\, United States
CATEGORIES:Food & Beverage,Fun & Entertainment
ATTACH;FMTTYPE=image/jpeg:https://athena.thevillagesite.net/wp-content/uploads/2025/09/2025-09-flyer.jpg
ORGANIZER;CN="Athena Coffee Bistro":MAILTO:events@athena.thevillagesite.net
END:VEVENT
BEGIN:VEVENT
DTSTART;TZID=America/Denver:20250315T210000
DTEND;TZID=America/Denver:20250316T013000
DTSTAMP:20260420T223308
CREATED:20241217T233505Z
LAST-MODIFIED:20241217T233505Z
UID:17475-1742072400-1742088600@athena.thevillagesite.net
SUMMARY:Salsation Dance Nite
DESCRIPTION:Doors Open at 8:30pm\nFree Dance Lessons at 9pm    Dance starts around 10:30pm ’till 1:30 am \nTickets at the Door: $8 before 10pm\, $12 after 10pm (*prices may vary for some events) \nFull Bar Opens by 9:30pm \n**Remember *No Outside Food/Drink/Containers Allowed. \nMore event info at Salation Utah
URL:https://athena.thevillagesite.net/event/salsation-dance-nite-10-2-2-2-2-2-2/
CATEGORIES:Fun & Entertainment
ATTACH;FMTTYPE=image/jpeg:https://athena.thevillagesite.net/wp-content/uploads/2024/04/Salsation-03.jpg
END:VEVENT
BEGIN:VEVENT
DTSTART;TZID=America/Denver:20250301T210000
DTEND;TZID=America/Denver:20250302T013000
DTSTAMP:20260420T223308
CREATED:20241217T233415Z
LAST-MODIFIED:20241217T233415Z
UID:17473-1740862800-1740879000@athena.thevillagesite.net
SUMMARY:Salsation Dance Nite
DESCRIPTION:Doors Open at 8:30pm\nFree Dance Lessons at 9pm    Dance starts around 10:30pm ’till 1:30 am \nTickets at the Door: $8 before 10pm\, $12 after 10pm (*prices may vary for some events) \nFull Bar Opens by 9:30pm \n**Remember *No Outside Food/Drink/Containers Allowed. \nMore event info at Salation Utah
URL:https://athena.thevillagesite.net/event/salsation-dance-nite-10-2-2-2-2-2/
CATEGORIES:Fun & Entertainment
ATTACH;FMTTYPE=image/jpeg:https://athena.thevillagesite.net/wp-content/uploads/2024/04/Salsation-04.jpg
END:VEVENT
BEGIN:VEVENT
DTSTART;TZID=America/Denver:20250215T210000
DTEND;TZID=America/Denver:20250216T013000
DTSTAMP:20260420T223308
CREATED:20241217T233256Z
LAST-MODIFIED:20241217T233256Z
UID:17471-1739653200-1739669400@athena.thevillagesite.net
SUMMARY:Salsation Dance Nite
DESCRIPTION:Doors Open at 8:30pm\nFree Dance Lessons at 9pm    Dance starts around 10:30pm ’till 1:30 am \nTickets at the Door: $8 before 10pm\, $12 after 10pm (*prices may vary for some events) \nFull Bar Opens by 9:30pm \n**Remember *No Outside Food/Drink/Containers Allowed. \nMore event info at Salation Utah
URL:https://athena.thevillagesite.net/event/salsation-dance-nite-10-2-2-2-2/
CATEGORIES:Fun & Entertainment
ATTACH;FMTTYPE=image/jpeg:https://athena.thevillagesite.net/wp-content/uploads/2023/03/Salsation.jpg
END:VEVENT
BEGIN:VEVENT
DTSTART;TZID=America/Denver:20250201T210000
DTEND;TZID=America/Denver:20250202T013000
DTSTAMP:20260420T223308
CREATED:20241217T233153Z
LAST-MODIFIED:20241217T233153Z
UID:17469-1738443600-1738459800@athena.thevillagesite.net
SUMMARY:Salsation Dance Nite
DESCRIPTION:Doors Open at 8:30pm\nFree Dance Lessons at 9pm    Dance starts around 10:30pm ’till 1:30 am \nTickets at the Door: $8 before 10pm\, $12 after 10pm (*prices may vary for some events) \nFull Bar Opens by 9:30pm \n**Remember *No Outside Food/Drink/Containers Allowed. \nMore event info at Salation Utah
URL:https://athena.thevillagesite.net/event/salsation-dance-nite-10-2-2-2/
CATEGORIES:Fun & Entertainment
ATTACH;FMTTYPE=image/jpeg:https://athena.thevillagesite.net/wp-content/uploads/2024/04/Salsation-03.jpg
END:VEVENT
BEGIN:VEVENT
DTSTART;TZID=America/Denver:20250118T210000
DTEND;TZID=America/Denver:20250119T013000
DTSTAMP:20260420T223308
CREATED:20241217T233041Z
LAST-MODIFIED:20241217T233041Z
UID:17467-1737234000-1737250200@athena.thevillagesite.net
SUMMARY:Salsation Dance Nite
DESCRIPTION:Doors Open at 8:30pm\nFree Dance Lessons at 9pm    Dance starts around 10:30pm ’till 1:30 am \nTickets at the Door: $8 before 10pm\, $12 after 10pm (*prices may vary for some events) \nFull Bar Opens by 9:30pm \n**Remember *No Outside Food/Drink/Containers Allowed. \nMore event info at Salation Utah
URL:https://athena.thevillagesite.net/event/salsation-dance-nite-10-2-2/
CATEGORIES:Fun & Entertainment
ATTACH;FMTTYPE=image/jpeg:https://athena.thevillagesite.net/wp-content/uploads/2023/05/salsation-dancing.jpg
END:VEVENT
BEGIN:VEVENT
DTSTART;TZID=America/Denver:20250104T210000
DTEND;TZID=America/Denver:20250105T013000
DTSTAMP:20260420T223308
CREATED:20241217T232924Z
LAST-MODIFIED:20241217T232924Z
UID:17465-1736024400-1736040600@athena.thevillagesite.net
SUMMARY:Salsation Dance Nite
DESCRIPTION:Doors Open at 8:30pm\nFree Dance Lessons at 9pm    Dance starts around 10:30pm ’till 1:30 am \nTickets at the Door: $8 before 10pm\, $12 after 10pm (*prices may vary for some events) \nFull Bar Opens by 9:30pm \n**Remember *No Outside Food/Drink/Containers Allowed. \nMore event info at Salation Utah
URL:https://athena.thevillagesite.net/event/salsation-dance-nite-10-2/
CATEGORIES:Fun & Entertainment
ATTACH;FMTTYPE=image/jpeg:https://athena.thevillagesite.net/wp-content/uploads/2024/04/Salsation-05.jpg
END:VEVENT
BEGIN:VEVENT
DTSTART;TZID=America/Denver:20241231T210000
DTEND;TZID=America/Denver:20250101T013000
DTSTAMP:20260420T223308
CREATED:20241020T043640Z
LAST-MODIFIED:20241217T232246Z
UID:17431-1735678800-1735695000@athena.thevillagesite.net
SUMMARY:New Years Salsation Dance
DESCRIPTION:Doors Open at 9:30pm\nDance starts around 10:00pm ’till 2:00 am \nTickets at the Door: $?? before 10pm\, $?? after 10pm (*prices may vary for some events) \nFull Bar Opens by 10:00pm \n**Remember *No Outside Food/Drink/Containers Allowed. \nMore event info at Salation Utah
URL:https://athena.thevillagesite.net/event/new-years-salsation-dance/
CATEGORIES:Fun & Entertainment
ATTACH;FMTTYPE=image/jpeg:https://athena.thevillagesite.net/wp-content/uploads/2024/04/Salsation-03.jpg
END:VEVENT
BEGIN:VEVENT
DTSTART;TZID=America/Denver:20241221T210000
DTEND;TZID=America/Denver:20241222T013000
DTSTAMP:20260420T223308
CREATED:20241020T043336Z
LAST-MODIFIED:20241020T043336Z
UID:17429-1734814800-1734831000@athena.thevillagesite.net
SUMMARY:Salsation Dance Nite
DESCRIPTION:Doors Open at 8:30pm\nFree Dance Lessons at 9pm    Dance starts around 10:30pm ’till 1:30 am \nTickets at the Door: $8 before 10pm\, $12 after 10pm (*prices may vary for some events) \nFull Bar Opens by 9:30pm \n**Remember *No Outside Food/Drink/Containers Allowed. \nMore event info at Salation Utah
URL:https://athena.thevillagesite.net/event/salsation-dance-nite-10/
CATEGORIES:Fun & Entertainment
ATTACH;FMTTYPE=image/jpeg:https://athena.thevillagesite.net/wp-content/uploads/2024/04/Salsation-04.jpg
END:VEVENT
BEGIN:VEVENT
DTSTART;TZID=America/Denver:20241207T210000
DTEND;TZID=America/Denver:20241208T013000
DTSTAMP:20260420T223308
CREATED:20241020T043125Z
LAST-MODIFIED:20241020T043125Z
UID:17427-1733605200-1733621400@athena.thevillagesite.net
SUMMARY:Salsation Dance Nite
DESCRIPTION:Doors Open at 8:30pm\nFree Dance Lessons at 9pm    Dance starts around 10:30pm ’till 1:30 am \nTickets at the Door: $8 before 10pm\, $12 after 10pm (*prices may vary for some events) \nFull Bar Opens by 9:30pm \n**Remember *No Outside Food/Drink/Containers Allowed. \nMore event info at Salation Utah
URL:https://athena.thevillagesite.net/event/salsation-dance-nite-9/
CATEGORIES:Fun & Entertainment
ATTACH;FMTTYPE=image/jpeg:https://athena.thevillagesite.net/wp-content/uploads/2024/04/Salsation-05.jpg
END:VEVENT
BEGIN:VEVENT
DTSTART;TZID=America/Denver:20241105T160000
DTEND;TZID=America/Denver:20241105T180000
DTSTAMP:20260420T223308
CREATED:20240911T035221Z
LAST-MODIFIED:20240930T215843Z
UID:17323-1730822400-1730829600@athena.thevillagesite.net
SUMMARY:Paint & Sip
DESCRIPTION:Paint and Sip with Artist Sarah McDonald at Athena’s!\n\n\n\n\n\n\n\n\n\n\n\n\n\n\n\n\n\n\n\nTuesday\, October 1st\, 2024 | 4-6 PM\n$35 per personJoin us for a creative evening at Athena’s with local artist Sarah McDonald! Enjoy a complimentary drink as you dive into a meaningful painting session. Bring a reference photo that holds special memories—a beloved landscape from a hike\, a moment with your kids\, or your favorite wildflowers—and Sarah will guide you from sketch to finish\, helping your inner artist truly shine.Sign up for the class here!Remember the quote from Ratatouille? “Anyone can paint!” Sarah believes the same. As a self-taught artist\, she understands that not every painting is “the one\,” but practice makes perfect. You’ll be working on linen paper\, ideal for acrylic paints and easy to frame\, journal\, or share with a friend.Sarah is a self-taught artist creating expression\, landscapes\, and laughs\, Sarah McDonald is a middle school teacher by day and an artist by night. She began selling her art 4 years ago at the local farmer’s market\, and has grown to love connecting with the community via artistic means.This is a unique chance to express yourself and create something personal. Reserve your spot today!
URL:https://athena.thevillagesite.net/event/paint-sip-2024-11-05/
LOCATION:Athena Beans\, 111 West 9000 S.\, Sandy\, UT\, 84070\, United States
CATEGORIES:Food & Beverage,Fun & Entertainment
ORGANIZER;CN="Athena Coffee Bistro":MAILTO:events@athena.thevillagesite.net
END:VEVENT
BEGIN:VEVENT
DTSTART;TZID=America/Denver:20241102T210000
DTEND;TZID=America/Denver:20241103T013000
DTSTAMP:20260420T223308
CREATED:20241020T042807Z
LAST-MODIFIED:20241020T042807Z
UID:17422-1730581200-1730597400@athena.thevillagesite.net
SUMMARY:Salsation Dance Nite
DESCRIPTION:Doors Open at 8:30pm\nFree Dance Lessons at 9pm    Dance starts around 10:30pm ’till 1:30 am \nTickets at the Door: $8 before 10pm\, $12 after 10pm (*prices may vary for some events) \nFull Bar Opens by 9:30pm \n**Remember *No Outside Food/Drink/Containers Allowed. \nMore event info at Salation Utah
URL:https://athena.thevillagesite.net/event/salsation-dance-nite-6/
CATEGORIES:Fun & Entertainment
ATTACH;FMTTYPE=image/jpeg:https://athena.thevillagesite.net/wp-content/uploads/2023/05/salsation-dancing-550x550-1.jpg
END:VEVENT
BEGIN:VEVENT
DTSTART;TZID=America/Denver:20241019T210000
DTEND;TZID=America/Denver:20241020T013000
DTSTAMP:20260420T223308
CREATED:20240905T222818Z
LAST-MODIFIED:20240905T222818Z
UID:17305-1729371600-1729387800@athena.thevillagesite.net
SUMMARY:Salsation of Utah
DESCRIPTION:Doors Open at 8:30pm\nFree Dance Lessons at 9pm    Dance starts around 10:30pm ’till 1:30 am \nTickets at the Door: $8 before 10pm\, $12 after 10pm (*prices may vary for some events) \nFull Bar Opens by 9:30pm \n**Remember *No Outside Food/Drink/Containers Allowed. \nMore event info at Salation Utah
URL:https://athena.thevillagesite.net/event/salsation-of-utah/
LOCATION:Athena Beans\, 111 West 9000 S.\, Sandy\, UT\, 84070\, United States
CATEGORIES:Fun & Entertainment
ATTACH;FMTTYPE=image/jpeg:https://athena.thevillagesite.net/wp-content/uploads/2024/04/Salsation-03.jpg
ORGANIZER;CN="Athena Coffee Bistro":MAILTO:events@athena.thevillagesite.net
END:VEVENT
BEGIN:VEVENT
DTSTART;TZID=America/Denver:20241005T210000
DTEND;TZID=America/Denver:20241006T013000
DTSTAMP:20260420T223308
CREATED:20240905T222416Z
LAST-MODIFIED:20240905T222416Z
UID:17303-1728162000-1728178200@athena.thevillagesite.net
SUMMARY:Salsation Dance Night
DESCRIPTION:Doors Open at 8:30pm\nFree Dance Lessons at 9pm    Dance starts around 10:30pm ’till 1:30 am \nTickets at the Door: $8 before 10pm\, $12 after 10pm (*prices may vary for some events) \nFull Bar Opens by 9:30pm \n**Remember *No Outside Food/Drink/Containers Allowed. \nMore event info at Salation Utah
URL:https://athena.thevillagesite.net/event/salsation-dance-night-12/
LOCATION:Athena Beans\, 111 West 9000 S.\, Sandy\, UT\, 84070\, United States
CATEGORIES:Fun & Entertainment
ATTACH;FMTTYPE=image/jpeg:https://athena.thevillagesite.net/wp-content/uploads/2023/05/salsation-dancing-550x550-1.jpg
ORGANIZER;CN="Athena Coffee Bistro":MAILTO:events@athena.thevillagesite.net
END:VEVENT
BEGIN:VEVENT
DTSTART;TZID=America/Denver:20241001T160000
DTEND;TZID=America/Denver:20241001T180000
DTSTAMP:20260420T223308
CREATED:20240911T035221Z
LAST-MODIFIED:20240930T220239Z
UID:17309-1727798400-1727805600@athena.thevillagesite.net
SUMMARY:Paint & Sip
DESCRIPTION:Paint and Sip with Artist Sarah McDonald at Athena’s!\n\n\n\n\n\n\n\n\n\n\n\n\n\n\n\n\n\n\n\nTuesday\, October 1st\, 2024 | 4-6 PM\n$35 per personJoin us for a creative evening at Athena’s with local artist Sarah McDonald! Enjoy a complimentary drink as you dive into a meaningful painting session. Bring a reference photo that holds special memories—a beloved landscape from a hike\, a moment with your kids\, or your favorite wildflowers—and Sarah will guide you from sketch to finish\, helping your inner artist truly shine.Sign up for the class here!Remember the quote from Ratatouille? “Anyone can paint!” Sarah believes the same. As a self-taught artist\, she understands that not every painting is “the one\,” but practice makes perfect. You’ll be working on linen paper\, ideal for acrylic paints and easy to frame\, journal\, or share with a friend.Sarah is a self-taught artist creating expression\, landscapes\, and laughs\, Sarah McDonald is a middle school teacher by day and an artist by night. She began selling her art 4 years ago at the local farmer’s market\, and has grown to love connecting with the community via artistic means. \nThis is a unique chance to express yourself and create something personal. Reserve your spot today!
URL:https://athena.thevillagesite.net/event/paint-sip/
LOCATION:Athena Beans\, 111 West 9000 S.\, Sandy\, UT\, 84070\, United States
CATEGORIES:Food & Beverage,Fun & Entertainment
ORGANIZER;CN="Athena Coffee Bistro":MAILTO:events@athena.thevillagesite.net
END:VEVENT
BEGIN:VEVENT
DTSTART;TZID=America/Denver:20240907T210000
DTEND;TZID=America/Denver:20240908T013000
DTSTAMP:20260420T223308
CREATED:20240823T010853Z
LAST-MODIFIED:20240823T010853Z
UID:17190-1725742800-1725759000@athena.thevillagesite.net
SUMMARY:Salsation Dance Night
DESCRIPTION:Doors Open at 8:30pm\nFree Dance Lessons at 9pm    Dance starts around 10:30pm ’till 1:30 am \nTickets at the Door: $8 before 10pm\, $12 after 10pm (*prices may vary for some events) \nFull Bar Opens by 9:30pm \n**Remember *No Outside Food/Drink/Containers Allowed. \nMore event info at Salation Utah
URL:https://athena.thevillagesite.net/event/salsation-dance-night-10/
LOCATION:Athena Beans\, 111 West 9000 S.\, Sandy\, UT\, 84070\, United States
CATEGORIES:Fun & Entertainment
ATTACH;FMTTYPE=image/jpeg:https://athena.thevillagesite.net/wp-content/uploads/2024/04/Salsation-05.jpg
ORGANIZER;CN="Athena Coffee Bistro":MAILTO:events@athena.thevillagesite.net
END:VEVENT
BEGIN:VEVENT
DTSTART;TZID=America/Denver:20240803T210000
DTEND;TZID=America/Denver:20240804T013000
DTSTAMP:20260420T223308
CREATED:20240623T183453Z
LAST-MODIFIED:20240623T183453Z
UID:16530-1722718800-1722735000@athena.thevillagesite.net
SUMMARY:Salsation Dance Nite
DESCRIPTION:Doors open at 8:30 \nDance Lessons 9-10 (all ages welcome) \nDancing from 10-1:30 \n*No outside food or drink of any kind may be brought in. \nmore info…
URL:https://athena.thevillagesite.net/event/salsation-dance-nite-5/
LOCATION:Athena Beans\, 111 West 9000 S.\, Sandy\, UT\, 84070\, United States
CATEGORIES:Fun & Entertainment
ATTACH;FMTTYPE=image/jpeg:https://athena.thevillagesite.net/wp-content/uploads/2023/05/salsation-dancing-550x550-1.jpg
ORGANIZER;CN="Athena Coffee Bistro":MAILTO:events@athena.thevillagesite.net
END:VEVENT
BEGIN:VEVENT
DTSTART;TZID=America/Denver:20240720T210000
DTEND;TZID=America/Denver:20240721T013000
DTSTAMP:20260420T223308
CREATED:20240623T183232Z
LAST-MODIFIED:20240623T183232Z
UID:16528-1721509200-1721525400@athena.thevillagesite.net
SUMMARY:Salsation Dance Nite
DESCRIPTION:Doors open at 8:30 \nDance Lessons 9-10 (all ages welcome) \nDancing from 10-1:30 \n*No outside food or drink of any kind may be brought in. \nmore info…
URL:https://athena.thevillagesite.net/event/salsation-dance-nite-4/
LOCATION:Athena Beans\, 111 West 9000 S.\, Sandy\, UT\, 84070\, United States
CATEGORIES:Fun & Entertainment
ATTACH;FMTTYPE=image/jpeg:https://athena.thevillagesite.net/wp-content/uploads/2024/04/Salsation-05.jpg
ORGANIZER;CN="Athena Coffee Bistro":MAILTO:events@athena.thevillagesite.net
END:VEVENT
END:VCALENDAR