BEGIN:VCALENDAR
VERSION:2.0
PRODID:-//Athena VII - ECPv6.15.20//NONSGML v1.0//EN
CALSCALE:GREGORIAN
METHOD:PUBLISH
X-ORIGINAL-URL:https://athena.thevillagesite.net
X-WR-CALDESC:Events for Athena VII
REFRESH-INTERVAL;VALUE=DURATION:PT1H
X-Robots-Tag:noindex
X-PUBLISHED-TTL:PT1H
BEGIN:VTIMEZONE
TZID:America/Denver
BEGIN:DAYLIGHT
TZOFFSETFROM:-0700
TZOFFSETTO:-0600
TZNAME:MDT
DTSTART:20220313T090000
END:DAYLIGHT
BEGIN:STANDARD
TZOFFSETFROM:-0600
TZOFFSETTO:-0700
TZNAME:MST
DTSTART:20221106T080000
END:STANDARD
BEGIN:DAYLIGHT
TZOFFSETFROM:-0700
TZOFFSETTO:-0600
TZNAME:MDT
DTSTART:20230312T090000
END:DAYLIGHT
BEGIN:STANDARD
TZOFFSETFROM:-0600
TZOFFSETTO:-0700
TZNAME:MST
DTSTART:20231105T080000
END:STANDARD
BEGIN:DAYLIGHT
TZOFFSETFROM:-0700
TZOFFSETTO:-0600
TZNAME:MDT
DTSTART:20240310T090000
END:DAYLIGHT
BEGIN:STANDARD
TZOFFSETFROM:-0600
TZOFFSETTO:-0700
TZNAME:MST
DTSTART:20241103T080000
END:STANDARD
BEGIN:DAYLIGHT
TZOFFSETFROM:-0700
TZOFFSETTO:-0600
TZNAME:MDT
DTSTART:20250309T090000
END:DAYLIGHT
BEGIN:STANDARD
TZOFFSETFROM:-0600
TZOFFSETTO:-0700
TZNAME:MST
DTSTART:20251102T080000
END:STANDARD
END:VTIMEZONE
BEGIN:VEVENT
DTSTART;TZID=America/Denver:20240526T110000
DTEND;TZID=America/Denver:20240526T160000
DTSTAMP:20260421T014426
CREATED:20240429T221518Z
LAST-MODIFIED:20240510T215950Z
UID:16063-1716721200-1716739200@athena.thevillagesite.net
SUMMARY:Pagan Market
DESCRIPTION:Drop by for the Pagan Market last Sunday of the month. \nMarket runs from 11 am to 4 pm. \nSee you there!
URL:https://athena.thevillagesite.net/event/pagan-market/
LOCATION:Athena Beans\, 111 West 9000 S.\, Sandy\, UT\, 84070\, United States
CATEGORIES:Food & Beverage,Shopping
ATTACH;FMTTYPE=image/png:https://athena.thevillagesite.net/wp-content/uploads/2024/04/2024-0526-flyer.png
ORGANIZER;CN="Athena Coffee Bistro":MAILTO:events@athena.thevillagesite.net
END:VEVENT
BEGIN:VEVENT
DTSTART;TZID=America/Denver:20240518T220000
DTEND;TZID=America/Denver:20240519T013000
DTSTAMP:20260421T014426
CREATED:20240429T221147Z
LAST-MODIFIED:20240429T221147Z
UID:16061-1716069600-1716082200@athena.thevillagesite.net
SUMMARY:Salsation Dance Night
DESCRIPTION:Doors open at 8:30 \nDance Lessons 9-10 (all ages welcome) \nDancing from 10-1:30 \n*No outside food or drink of any kind may be brought in.
URL:https://athena.thevillagesite.net/event/salsation-dance-night-9/
LOCATION:Athena Beans\, 111 West 9000 S.\, Sandy\, UT\, 84070\, United States
CATEGORIES:Fun & Entertainment
ATTACH;FMTTYPE=image/jpeg:https://athena.thevillagesite.net/wp-content/uploads/2024/04/Salsation-03.jpg
ORGANIZER;CN="Athena Coffee Bistro":MAILTO:events@athena.thevillagesite.net
END:VEVENT
BEGIN:VEVENT
DTSTART;TZID=America/Denver:20240504T210000
DTEND;TZID=America/Denver:20240505T013000
DTSTAMP:20260421T014426
CREATED:20240429T202648Z
LAST-MODIFIED:20240429T203055Z
UID:16040-1714856400-1714872600@athena.thevillagesite.net
SUMMARY:Salsation Dance Night
DESCRIPTION:Doors open at 8:30 \nDance Lessons 9-10 (all ages welcome) \nDancing from 10-1:30 \n*No outside food or drink of any kind may be brought in.
URL:https://athena.thevillagesite.net/event/salsation-dance-night-8/
LOCATION:Athena Beans\, 111 West 9000 S.\, Sandy\, UT\, 84070\, United States
CATEGORIES:Fun & Entertainment
ATTACH;FMTTYPE=image/jpeg:https://athena.thevillagesite.net/wp-content/uploads/2024/04/Salsation-05.jpg
ORGANIZER;CN="Athena Coffee Bistro":MAILTO:events@athena.thevillagesite.net
END:VEVENT
BEGIN:VEVENT
DTSTART;VALUE=DATE:20240424
DTEND;VALUE=DATE:20240426
DTSTAMP:20260421T014426
CREATED:20220224T024531Z
LAST-MODIFIED:20240330T035243Z
UID:2777-1713927600-1714013999@athena.thevillagesite.net
SUMMARY:Utah Pagan Market
DESCRIPTION:A fun indoor event throughout the day where you can explore products by local vendors (arts\, jewelry\, services). \nFood and drink available. \nHope to see you at our first event of this type (more to come in the following months so watch the Athena Calendar. \n**More info to come.
URL:https://athena.thevillagesite.net/event/utah-pagan-market/
LOCATION:Athena Beans\, 111 West 9000 S.\, Sandy\, UT\, 84070\, United States
CATEGORIES:Wacky Holidays
END:VEVENT
BEGIN:VEVENT
DTSTART;TZID=America/Denver:20240406T090000
DTEND;TZID=America/Denver:20240407T013000
DTSTAMP:20260421T014426
CREATED:20240323T180242Z
LAST-MODIFIED:20240429T201201Z
UID:14617-1712394000-1712453400@athena.thevillagesite.net
SUMMARY:Salsation Dance Nite
DESCRIPTION:Doors Open at 8:30pm\nFree Dance Lessons at 9pm    Dance starts around 10:30pm ’till 1:30 am \nTickets at the Door: $8 before 10pm\, $12 after 10pm (*prices may vary for some events) \nFull Bar Opens by 9:30pm \n**Remember *No Outside Food/Drink/Containers Allowed. \nMore event info at Salation Utah
URL:https://athena.thevillagesite.net/event/salsation-dance-nite/
LOCATION:Athena Beans\, 111 West 9000 S.\, Sandy\, UT\, 84070\, United States
CATEGORIES:Fun & Entertainment
ATTACH;FMTTYPE=image/jpeg:https://athena.thevillagesite.net/wp-content/uploads/2023/03/Salsation.jpg
ORGANIZER;CN="Athena Coffee Bistro":MAILTO:events@athena.thevillagesite.net
END:VEVENT
BEGIN:VEVENT
DTSTART;TZID=America/Denver:20231231T220000
DTEND;TZID=America/Denver:20240101T023000
DTSTAMP:20260421T014426
CREATED:20231229T214329Z
LAST-MODIFIED:20231229T214329Z
UID:12930-1704060000-1704076200@athena.thevillagesite.net
SUMMARY:Salsation New Years Eve Dance
DESCRIPTION:Doors Open @8:30pm \nFree Dance Lessons @9pm \nDance @10:30pm – 1:30 am \nTickets at the door: $8 before 10pm\, $12 after 10pm \nFull bar opens @9:30pm \n**Remember No Outside Food/Drink/Containers Allowed.**
URL:https://athena.thevillagesite.net/event/salsation-13-2/
LOCATION:Athena Beans\, 111 West 9000 S.\, Sandy\, UT\, 84070\, United States
CATEGORIES:Fun & Entertainment
ATTACH;FMTTYPE=image/jpeg:https://athena.thevillagesite.net/wp-content/uploads/2023/03/Salsation.jpg
ORGANIZER;CN="Athena Coffee Bistro":MAILTO:events@athena.thevillagesite.net
END:VEVENT
BEGIN:VEVENT
DTSTART;TZID=America/Denver:20231228T080000
DTEND;TZID=America/Denver:20231228T170000
DTSTAMP:20260421T014426
CREATED:20231229T054525Z
LAST-MODIFIED:20240117T001029Z
UID:12922-1703750400-1703782800@athena.thevillagesite.net
SUMMARY:Lunch Test
DESCRIPTION:This is a test \nBuy Tickets!
URL:https://athena.thevillagesite.net/event/lunch-test/
LOCATION:Athena Beans\, 111 West 9000 S.\, Sandy\, UT\, 84070\, United States
ORGANIZER;CN="Athena Coffee Bistro":MAILTO:events@athena.thevillagesite.net
END:VEVENT
BEGIN:VEVENT
DTSTART;TZID=America/Denver:20231216T210000
DTEND;TZID=America/Denver:20231217T013000
DTSTAMP:20260421T014426
CREATED:20230304T023716Z
LAST-MODIFIED:20231215T201026Z
UID:6604-1702760400-1702776600@athena.thevillagesite.net
SUMMARY:Salsation Dance Nite
DESCRIPTION:Doors Open @8:30pm \nFree Dance Lessons @9pm \nDance @10:30pm – 1:30 am \nTickets at the door: $8 before 10pm\, $12 after 10pm \nFull bar opens @9:30pm \n**Remember No Outside Food/Drink/Containers Allowed.**
URL:https://athena.thevillagesite.net/event/salsation-13/
LOCATION:Athena Beans\, 111 West 9000 S.\, Sandy\, UT\, 84070\, United States
CATEGORIES:Fun & Entertainment
ATTACH;FMTTYPE=image/jpeg:https://athena.thevillagesite.net/wp-content/uploads/2023/03/Salsation.jpg
ORGANIZER;CN="Athena Coffee Bistro":MAILTO:events@athena.thevillagesite.net
END:VEVENT
END:VCALENDAR