BEGIN:VCALENDAR
VERSION:2.0
PRODID:-//Athena VII - ECPv6.15.20//NONSGML v1.0//EN
CALSCALE:GREGORIAN
METHOD:PUBLISH
X-WR-CALNAME:Athena VII
X-ORIGINAL-URL:https://athena.thevillagesite.net
X-WR-CALDESC:Events for Athena VII
REFRESH-INTERVAL;VALUE=DURATION:PT1H
X-Robots-Tag:noindex
X-PUBLISHED-TTL:PT1H
BEGIN:VTIMEZONE
TZID:America/Denver
BEGIN:DAYLIGHT
TZOFFSETFROM:-0700
TZOFFSETTO:-0600
TZNAME:MDT
DTSTART:20220313T090000
END:DAYLIGHT
BEGIN:STANDARD
TZOFFSETFROM:-0600
TZOFFSETTO:-0700
TZNAME:MST
DTSTART:20221106T080000
END:STANDARD
BEGIN:DAYLIGHT
TZOFFSETFROM:-0700
TZOFFSETTO:-0600
TZNAME:MDT
DTSTART:20230312T090000
END:DAYLIGHT
BEGIN:STANDARD
TZOFFSETFROM:-0600
TZOFFSETTO:-0700
TZNAME:MST
DTSTART:20231105T080000
END:STANDARD
BEGIN:DAYLIGHT
TZOFFSETFROM:-0700
TZOFFSETTO:-0600
TZNAME:MDT
DTSTART:20240310T090000
END:DAYLIGHT
BEGIN:STANDARD
TZOFFSETFROM:-0600
TZOFFSETTO:-0700
TZNAME:MST
DTSTART:20241103T080000
END:STANDARD
END:VTIMEZONE
BEGIN:VEVENT
DTSTART;TZID=America/Denver:20231216T210000
DTEND;TZID=America/Denver:20231217T013000
DTSTAMP:20260423T132203
CREATED:20230304T023716Z
LAST-MODIFIED:20231215T201026Z
UID:6604-1702760400-1702776600@athena.thevillagesite.net
SUMMARY:Salsation Dance Nite
DESCRIPTION:Doors Open @8:30pm \nFree Dance Lessons @9pm \nDance @10:30pm – 1:30 am \nTickets at the door: $8 before 10pm\, $12 after 10pm \nFull bar opens @9:30pm \n**Remember No Outside Food/Drink/Containers Allowed.**
URL:https://athena.thevillagesite.net/event/salsation-13/
LOCATION:Athena Beans\, 111 West 9000 S.\, Sandy\, UT\, 84070\, United States
CATEGORIES:Fun & Entertainment
ATTACH;FMTTYPE=image/jpeg:https://athena.thevillagesite.net/wp-content/uploads/2023/03/Salsation.jpg
ORGANIZER;CN="Athena Coffee Bistro":MAILTO:events@athena.thevillagesite.net
END:VEVENT
END:VCALENDAR